BEGIN:VCALENDAR
VERSION:2.0
PRODID:-//Squarespace Inc/Squarespace 6//v6//EN
BEGIN:VEVENT
UID:5ac41b9b70a6adfc8c7253a7@squarespace.com
DTSTAMP:20180507T221320Z
DTSTART:20180516T093000Z
DTEND:20180516T120000Z
SUMMARY:Ten Tough Questions: Evening Conference
GEO:-37.811462;145.052545
LOCATION:St Hilary's Anglican Church\, 12 John Street\, Kew\, VIC\, 3101\, 
 Australia
END:VEVENT
END:VCALENDAR
