BEGIN:VCALENDAR
VERSION:2.0
PRODID:-//Squarespace Inc/Squarespace 6//v6//EN
BEGIN:VEVENT
UID:576b299cf5e231d654ca508b@squarespace.com
DTSTAMP:20170925T052946Z
DTSTART:20160831T093000Z
DTEND:20160831T120000Z
SUMMARY:Salt & Light: An Evening Conference About Sharing Your Faith
GEO:-37.811153;145.052275
LOCATION:St Hilary's Anglican Church\, 12 John Street\, Kew\, VIC\, 3101\, 
 Australia
END:VEVENT
END:VCALENDAR
