BEGIN:VCALENDAR
VERSION:2.0
PRODID:-//Squarespace Inc/Squarespace 6//v6//EN
BEGIN:VEVENT
UID:5f1e5b886282737efbbb2d99@squarespace.com
DTSTAMP:20200727T045608Z
DTSTART:20200805T100000Z
DTEND:20200805T110000Z
SUMMARY:Tough Questions #2: The OT and Us
END:VEVENT
END:VCALENDAR
