BEGIN:VCALENDAR
VERSION:2.0
PRODID:-//Squarespace Inc/Squarespace 6//v6//EN
BEGIN:VEVENT
UID:5f02ca2d79d2832e0aaab21b@squarespace.com
DTSTAMP:20200706T065534Z
DTSTART:20200805T000000Z
DTEND:20200805T013000Z
SUMMARY:Pivot
END:VEVENT
END:VCALENDAR
