BEGIN:VCALENDAR
VERSION:2.0
PRODID:-//Squarespace Inc/Squarespace 6//v6//EN
BEGIN:VEVENT
UID:5f1e5c0c2cda7f103149c41d@squarespace.com
DTSTAMP:20200806T011055Z
DTSTART:20200817T100000Z
DTEND:20200817T110000Z
SUMMARY:Tough Questions #4: The Christian Life - the Holy Spirit\, Prayer\, 
 the Church &amp\; 'life to the full'
END:VEVENT
END:VCALENDAR
