BEGIN:VCALENDAR
VERSION:2.0
PRODID:-//Squarespace Inc/Squarespace 6//v6//EN
BEGIN:VEVENT
UID:5f1e5bbf7a84bb2a02416b37@squarespace.com
DTSTAMP:20200806T011054Z
DTSTART:20200813T100000Z
DTEND:20200813T110000Z
SUMMARY:Tough Questions #3: Unbelief\, Belief\, Predestination &amp\; Evang
 elism
END:VEVENT
END:VCALENDAR
