BEGIN:VCALENDAR
VERSION:2.0
PRODID:-//Squarespace Inc/Squarespace 6//v6//EN
BEGIN:VEVENT
UID:5f1e5b252cda7f103149ae84@squarespace.com
DTSTAMP:20200727T045551Z
DTSTART:20200728T100000Z
DTEND:20200728T110000Z
SUMMARY:Tough Questions #1: Suffering and God
END:VEVENT
END:VCALENDAR
