BEGIN:VCALENDAR
VERSION:2.0
PRODID:-//Squarespace Inc/Squarespace 6//v6//EN
BEGIN:VEVENT
UID:5ef45339dbe71d7968da22c1@squarespace.com
DTSTAMP:20200626T025500Z
DTSTART:20200702T000000Z
DTEND:20200702T010000Z
SUMMARY:Digital Solutions Returning to Church
END:VEVENT
END:VCALENDAR
