BEGIN:VCALENDAR
VERSION:2.0
PRODID:-//Squarespace Inc/Squarespace 6//v6//EN
BEGIN:VEVENT
UID:5eb25ace0f220170d7bd6b45@squarespace.com
DTSTAMP:20200515T012440Z
DTSTART:20200521T000000Z
DTEND:20200521T010000Z
SUMMARY:Covid-19 Learning for Thriving Churches
END:VEVENT
END:VCALENDAR
