BEGIN:VCALENDAR
VERSION:2.0
PRODID:-//Squarespace Inc/Squarespace 6//v6//EN
BEGIN:VEVENT
UID:5e586cf8086b4403a34fadd9@squarespace.com
DTSTAMP:20200417T211732Z
DTSTART:20200323T090000Z
DTEND:20200323T103000Z
SUMMARY:2 Corinthians in One Night
GEO:-37.811462;145.052545
LOCATION:St Hilary's Kew\, 12 John St\, Kew
END:VEVENT
END:VCALENDAR
