BEGIN:VCALENDAR
VERSION:2.0
PRODID:-//Squarespace Inc/Squarespace 6//v6//EN
BEGIN:VEVENT
UID:5e38f2ab96dfdf76ccb9ad22@squarespace.com
DTSTAMP:20200204T212517Z
DTSTART:20200317T223000Z
DTEND:20200318T053000Z
SUMMARY:Resilience Conference
GEO:-37.809049;145.141558
LOCATION:New Hope Baptist Church\, 3 Springfield Rd\, Blackburn North
END:VEVENT
END:VCALENDAR
