BEGIN:VCALENDAR
VERSION:2.0
PRODID:-//Squarespace Inc/Squarespace 6//v6//EN
BEGIN:VEVENT
UID:5e334750adfec52f85e870d2@squarespace.com
DTSTAMP:20200130T222813Z
DTSTART:20200207T220000Z
DTEND:20200208T000000Z
SUMMARY:Business as Mission Seminar
GEO:-37.811462;145.052545
LOCATION:St Hilary's Kew\, 12 John St\, Kew\, Australia
END:VEVENT
END:VCALENDAR
