BEGIN:VCALENDAR
VERSION:2.0
PRODID:-//Squarespace Inc/Squarespace 6//v6//EN
BEGIN:VEVENT
UID:5f73e04a7b72a27ef0a6a83f@squarespace.com
DTSTAMP:20201014T233049Z
DTSTART:20201028T000000Z
DTEND:20201028T013000Z
SUMMARY:Pitfalls and Possibilities
END:VEVENT
END:VCALENDAR
