BEGIN:VCALENDAR
VERSION:2.0
PRODID:-//Squarespace Inc/Squarespace 6//v6//EN
BEGIN:VEVENT
UID:5f83a10dadcb2360b9628b62@squarespace.com
DTSTAMP:20201012T002315Z
DTSTART:20201025T070000Z
DTEND:20201025T080000Z
SUMMARY:Thinking Through Old Testament Violence
END:VEVENT
END:VCALENDAR
