BEGIN:VCALENDAR
VERSION:2.0
PRODID:-//Squarespace Inc/Squarespace 6//v6//EN
BEGIN:VEVENT
UID:5f4edb0de17d4e73ccc1d569@squarespace.com
DTSTAMP:20200914T223251Z
DTSTART:20201014T030000Z
DTEND:20201014T043000Z
SUMMARY:Pandemonium
END:VEVENT
END:VCALENDAR
