BEGIN:VCALENDAR
VERSION:2.0
PRODID:-//Squarespace Inc/Squarespace 6//v6//EN
BEGIN:VEVENT
UID:5d7b308ae1468f750f5441c1@squarespace.com
DTSTAMP:20200130T213637Z
DTSTART:20191010T220000Z
DTEND:20191011T060000Z
SUMMARY:Stewardship Impact Workshop - Hosted by PCTC
END:VEVENT
END:VCALENDAR
