BEGIN:VCALENDAR
VERSION:2.0
PRODID:-//Squarespace Inc/Squarespace 6//v6//EN
BEGIN:VEVENT
UID:5caab027c830254e7755ffc6@squarespace.com
DTSTAMP:20200130T213657Z
DTSTART:20190827T233000Z
DTEND:20190828T060000Z
SUMMARY:The New Marriage Era (Day Conference)
GEO:-37.811462;145.052545
LOCATION:St Hilary's Kew\, 12 John St Kew\, 3101
END:VEVENT
END:VCALENDAR
