BEGIN:VCALENDAR
VERSION:2.0
PRODID:-//Squarespace Inc/Squarespace 6//v6//EN
BEGIN:VEVENT
UID:5caab1ea53450a1c3dc6fcaf@squarespace.com
DTSTAMP:20200130T212043Z
DTSTART:20190828T090000Z
DTEND:20190828T120000Z
SUMMARY:The New Marriage Era (Evening Conference)
GEO:-37.811462;145.052545
LOCATION:St Hilary's Kew\, 12 John St Kew\, 3101
END:VEVENT
END:VCALENDAR
