BEGIN:VCALENDAR
VERSION:2.0
PRODID:-//Squarespace Inc/Squarespace 6//v6//EN
BEGIN:VEVENT
UID:5ce497c805a4ed00019640da@squarespace.com
DTSTAMP:20200130T214442Z
DTSTART:20190812T094500Z
DTEND:20190812T113000Z
SUMMARY:Starting School Well
GEO:-37.811462;145.052545
LOCATION:St Hilary's Kew\, 12 John St\, Kew\, 3101
END:VEVENT
END:VCALENDAR
