BEGIN:VCALENDAR
VERSION:2.0
PRODID:-//Squarespace Inc/Squarespace 6//v6//EN
BEGIN:VEVENT
UID:5c7345df9140b72b90168dd7@squarespace.com
DTSTAMP:20190225T013939Z
DTSTART:20190327T083000Z
DTEND:20190327T110000Z
SUMMARY:For the Love of God: How the Church is Better + Worse than you ever 
 imagined
GEO:-37.811462;145.052545
LOCATION:St Hilary's Kew\, 12 John Street\, Kew\, 3101
END:VEVENT
END:VCALENDAR
