BEGIN:VCALENDAR
VERSION:2.0
PRODID:-//Squarespace Inc/Squarespace 6//v6//EN
BEGIN:VEVENT
UID:5c62492041920237ef027969@squarespace.com
DTSTAMP:20190212T043147Z
DTSTART:20190311T233000Z
DTEND:20190312T040000Z
SUMMARY:Losing Well and other Strategies for Winning the World
GEO:-37.811462;145.052545
LOCATION:St Hilary's\, 12 John St\, Kew\, 3101
END:VEVENT
END:VCALENDAR
