BEGIN:VCALENDAR
VERSION:2.0
PRODID:-//Squarespace Inc/Squarespace 6//v6//EN
BEGIN:VEVENT
UID:5b03c107352f530afd53b960@squarespace.com
DTSTAMP:20180614T004818Z
DTSTART:20180627T100000Z
DTEND:20180627T113000Z
SUMMARY:Where to after #MeToo ?   Free Public Talk
GEO:-37.811462;145.052545
LOCATION:St Hilary's\, 12 John Street\, Kew\, VIC\, 3101\, Australia
END:VEVENT
END:VCALENDAR
