BEGIN:VCALENDAR
VERSION:2.0
PRODID:-//Squarespace Inc/Squarespace 6//v6//EN
BEGIN:VEVENT
UID:5a7a5de20d929773856c7c74@squarespace.com
DTSTAMP:20180207T020719Z
DTSTART:20180301T083000Z
DTEND:20180301T103000Z
SUMMARY:Evening Seminar for church members: The new marriage era: How can w
 e respond?
GEO:-37.811153;145.052275
LOCATION:St Hilary's Anglican Church\, 12 John Street\, Kew\, VIC\, 3101\, 
 Australia
END:VEVENT
END:VCALENDAR
