BEGIN:VCALENDAR
VERSION:2.0
PRODID:-//Squarespace Inc/Squarespace 6//v6//EN
BEGIN:VEVENT
UID:587ca9ddc534a5f54f4d76d1@squarespace.com
DTSTAMP:20170117T051708Z
DTSTART:20170202T080000Z
DTEND:20170202T100000Z
SUMMARY:NEW VICTORIAN CHILD SAFE STANDARDS and how to implement them in you
 r church and ministry
GEO:-37.811153;145.052275
LOCATION:St Hilary's Anglican Church\, 12 John Street\, Kew\, VIC\, 3101\, 
 Australia
END:VEVENT
END:VCALENDAR
