BEGIN:VCALENDAR
VERSION:2.0
PRODID:-//Squarespace Inc/Squarespace 6//v6//EN
BEGIN:VEVENT
UID:596ed88dd7bdce246a9d313f@squarespace.com
DTSTAMP:20180308T040121Z
DTSTART:20180430T093000Z
DTEND:20180528T113000Z
SUMMARY:Tuning in to Teens Plus
GEO:-37.811153;145.052275
LOCATION:St Hilary's Anglican Church\, 12 John Street\, Kew\, VIC\, 3101\, 
 Australia
END:VEVENT
END:VCALENDAR
