BEGIN:VCALENDAR
VERSION:2.0
PRODID:-//Squarespace Inc/Squarespace 6//v6//EN
BEGIN:VEVENT
UID:569edff11c1210ba261577a4@squarespace.com
DTSTAMP:20160905T232340Z
DTSTART:20160917T000000Z
DTEND:20160919T110000Z
SUMMARY:Marriage Preparation Intensive
GEO:-37.811462;145.052545
LOCATION:St Hilary's\, 12 John Street\, Kew\, Victoria\, Australia
END:VEVENT
END:VCALENDAR
