BEGIN:VCALENDAR
VERSION:2.0
PRODID:-//Squarespace Inc/Squarespace 6//v6//EN
BEGIN:VEVENT
UID:570c948d37013b47bdf93409@squarespace.com
DTSTAMP:20160623T012153Z
DTSTART:20160803T093000Z
DTEND:20160803T111500Z
SUMMARY:The Lost Art of Friendship and Singleness with Wes Hill
GEO:-37.811462;145.052545
LOCATION:St Hilary's Kew\, 12 John Street\, Kew\, VIC\, 3101\, Australia
END:VEVENT
END:VCALENDAR
