BEGIN:VCALENDAR
VERSION:2.0
PRODID:-//Squarespace Inc/Squarespace 6//v6//EN
BEGIN:VEVENT
UID:573133a22fe131e30c43678d@squarespace.com
DTSTAMP:20160728T024205Z
DTSTART:20160817T230000Z
DTEND:20160818T060000Z
SUMMARY:Next Level: How To Take Your Church To The Next Level
GEO:-37.811462;145.052545
LOCATION:St Hilary's Church\, 12 John Street\, Kew\, Australia
END:VEVENT
END:VCALENDAR
