BEGIN:VCALENDAR
VERSION:2.0
PRODID:-//Squarespace Inc/Squarespace 6//v6//EN
BEGIN:VEVENT
UID:5747f3568259b5e5a34955fa@squarespace.com
DTSTAMP:20160620T102525Z
DTSTART:20160622T090000Z
DTEND:20160623T000000Z
SUMMARY:Youth Ministry Melbourne: Training Day
END:VEVENT
END:VCALENDAR
