BEGIN:VCALENDAR
VERSION:2.0
PRODID:-//Squarespace Inc/Squarespace 6//v6//EN
BEGIN:VEVENT
UID:569edef15a566845d5ff8009@squarespace.com
DTSTAMP:20160412T071915Z
DTSTART:20160601T090000Z
DTEND:20160601T110000Z
SUMMARY:Marriage Preparation Intensive
GEO:-37.811462;145.052545
LOCATION:St Hilary's Church\, 12 John Street\, Kew\, Victoria\, Australia
END:VEVENT
END:VCALENDAR
