BEGIN:VCALENDAR
VERSION:2.0
PRODID:-//Squarespace Inc/Squarespace 6//v6//EN
BEGIN:VEVENT
UID:56fc9e9704426271cb909569@squarespace.com
DTSTAMP:20160527T055024Z
DTSTART:20160528T213000Z
DTEND:20160528T223000Z
SUMMARY:Practical Prayer Breakfast Series
END:VEVENT
END:VCALENDAR
