BEGIN:VCALENDAR
VERSION:2.0
PRODID:-//Squarespace Inc/Squarespace 6//v6//EN
BEGIN:VEVENT
UID:573173a08a65e244fd53fed5@squarespace.com
DTSTAMP:20160510T061919Z
DTSTART:20160531T084500Z
DTEND:20160531T114500Z
SUMMARY:Annual Peter Corney Training Centre Lecture with George Savvides
GEO:-37.811462;145.052545
LOCATION:St Hilary's Network\, 12 John Street\, Kew\, Austalia
END:VEVENT
END:VCALENDAR
