BEGIN:VCALENDAR
VERSION:2.0
PRODID:-//Squarespace Inc/Squarespace 6//v6//EN
BEGIN:VEVENT
UID:571581bdc2ea51227fbe63d6@squarespace.com
DTSTAMP:20160419T010733Z
DTSTART:20160427T093000Z
DTEND:20160427T111500Z
SUMMARY:Alpha at St Silas
GEO:-37.795525;145.07399
LOCATION:St Silas Church\, Cnr Osburn & Maud Street\, North Balwyn\, Victor
 ia\, Australia
END:VEVENT
END:VCALENDAR
