BEGIN:VCALENDAR
VERSION:2.0
PRODID:-//Squarespace Inc/Squarespace 6//v6//EN
BEGIN:VEVENT
UID:566642965a56681efd4987bf@squarespace.com
DTSTAMP:20160223T051916Z
DTSTART:20160301T213000Z
DTEND:20160302T013000Z
SUMMARY:POSTPONED: Safe Talk Training for Pastoral Care
GEO:-37.811462;145.052545
LOCATION:St Hilary's\, 12 John Street\, Kew\, Australia
END:VEVENT
END:VCALENDAR
