BEGIN:VCALENDAR
VERSION:2.0
PRODID:-//Squarespace Inc/Squarespace 6//v6//EN
BEGIN:VEVENT
UID:569ed6089cadb6ef049d3486@squarespace.com
DTSTAMP:20160412T060720Z
DTSTART:20160411T090000Z
DTEND:20160411T110000Z
SUMMARY:Marriage Preparation Intensive
GEO:-37.811462;145.052545
LOCATION:Education Centre\, 12 John Street\, Kew\, Victoria\, Australia
END:VEVENT
END:VCALENDAR
