BEGIN:VCALENDAR
VERSION:2.0
PRODID:-//Squarespace Inc/Squarespace 6//v6//EN
BEGIN:VEVENT
UID:565ccd8ce4b09e258569dc2e@squarespace.com
DTSTAMP:20160111T010528Z
DTSTART:20160202T213000Z
DTEND:20160203T060000Z
SUMMARY:Growing Our Ministries: Collaborative Professional Development Seri
 es 2016
GEO:51.907124;-2.120311
LOCATION:St Silas Church
END:VEVENT
END:VCALENDAR
