BEGIN:VCALENDAR
VERSION:2.0
PRODID:-//Squarespace Inc/Squarespace 6//v6//EN
BEGIN:VEVENT
UID:565e83f8e4b0aca7d41eb045@squarespace.com
DTSTAMP:20160223T051834Z
DTSTART:20160226T220000Z
DTEND:20160227T020000Z
SUMMARY:POSTPONED: Training: Music In Worship
GEO:-37.795098;145.073664
LOCATION:St Silas Church\, Corner Osburne Ave and Maud Street\, North Balwy
 n\, Victoria\, Australia
END:VEVENT
END:VCALENDAR
