BEGIN:VCALENDAR
VERSION:2.0
PRODID:-//Squarespace Inc/Squarespace 6//v6//EN
BEGIN:VEVENT
UID:56cb9dd007eaa037daab3318@squarespace.com
DTSTAMP:20160808T040132Z
DTSTART:20160829T093000Z
DTEND:20160829T113000Z
SUMMARY:Tuning Into Teens: Understanding Your Teenager  SOLD OUT!
END:VEVENT
END:VCALENDAR
