BEGIN:VCALENDAR
VERSION:2.0
PRODID:-//Squarespace Inc/Squarespace 6//v6//EN
BEGIN:VEVENT
UID:56cb9dbec2ea518471dc746c@squarespace.com
DTSTAMP:20170309T032547Z
DTSTART:20160607T093000Z
DTEND:20160607T113000Z
SUMMARY:Tuning Into Kids: How to Raise Emotionally Intelligent Children
GEO:-37.811462;145.052545
LOCATION:St Hilary's\, 12 John Street\, Kew\, Australia
END:VEVENT
END:VCALENDAR
