BEGIN:VCALENDAR
VERSION:2.0
PRODID:-//Squarespace Inc/Squarespace 6//v6//EN
BEGIN:VEVENT
UID:56cb9de9c2ea518471dc75cf@squarespace.com
DTSTAMP:20160330T012114Z
DTSTART:20160527T090000Z
DTEND:20160527T110000Z
SUMMARY:Teenage Sexuality: Hot Topics
GEO:-37.811462;145.052545
LOCATION:St Hilary's Church\, 12 John Street\, Kew\, Australia
END:VEVENT
END:VCALENDAR
