BEGIN:VCALENDAR
VERSION:2.0
PRODID:-//Squarespace Inc/Squarespace 6//v6//EN
BEGIN:VEVENT
UID:56cb9e2837013b9fc42f33cb@squarespace.com
DTSTAMP:20160721T035815Z
DTSTART:20160723T000000Z
DTEND:20160723T030000Z
SUMMARY:Kidsgrow Conference
GEO:-37.811462;145.052545
LOCATION:St Hilary's Church\, 12 John Street\, Kew\, VIC\, 3101\, Australia
END:VEVENT
END:VCALENDAR
