BEGIN:VCALENDAR
VERSION:2.0
PRODID:-//Squarespace Inc/Squarespace 6//v6//EN
BEGIN:VEVENT
UID:56a0707fd8af10528bd3f9da@squarespace.com
DTSTAMP:20160209T040607Z
DTSTART:20160228T010000Z
DTEND:20160228T033000Z
SUMMARY:Training: For New Service Leaders
END:VEVENT
END:VCALENDAR
