BEGIN:VCALENDAR
VERSION:2.0
PRODID:-//Squarespace Inc/Squarespace 6//v6//EN
BEGIN:VEVENT
UID:566f54af9cadb6b279f81d01@squarespace.com
DTSTAMP:20151222T052111Z
DTSTART:20160129T230000Z
DTEND:20160130T003000Z
SUMMARY:Sandy Millar: Extraordinary Prayer for Ordinary People 
END:VEVENT
END:VCALENDAR
