BEGIN:VCALENDAR
VERSION:2.0
PRODID:-//Squarespace Inc/Squarespace 6//v6//EN
BEGIN:VEVENT
UID:569ecd5805f8e26bde1668fd@squarespace.com
DTSTAMP:20160120T053843Z
DTSTART:20160128T090000Z
DTEND:20160128T110000Z
SUMMARY:Pre Season Training: For Volunteers In Sunday Club
END:VEVENT
END:VCALENDAR
