BEGIN:VCALENDAR
VERSION:2.0
PRODID:-//Squarespace Inc/Squarespace 6//v6//EN
BEGIN:VEVENT
UID:569d8ccd0e4c1148e6bf3fa5@squarespace.com
DTSTAMP:20160209T010612Z
DTSTART:20160213T220000Z
DTEND:20160213T223000Z
SUMMARY:Planning Centre: An Introduction & Refresher
END:VEVENT
END:VCALENDAR
