BEGIN:VCALENDAR
VERSION:2.0
PRODID:-//Squarespace Inc/Squarespace 6//v6//EN
BEGIN:VEVENT
UID:55c006e3e4b05af69cbb0484@squarespace.com
DTSTAMP:20150910T024512Z
DTSTART:20150911T230000Z
DTEND:20150912T063000Z
SUMMARY:Conference: Science & Faith
GEO:-37.823443;145.039791
LOCATION:St Columbs Church\, 448 Burwood Rd\, Hawthorn\, VIC\, 3122\, Austr
 alia
END:VEVENT
END:VCALENDAR
