BEGIN:VCALENDAR
VERSION:2.0
PRODID:-//Squarespace Inc/Squarespace 6//v6//EN
BEGIN:VEVENT
UID:556c01a1e4b050dd54d359ec@squarespace.com
DTSTAMP:20150825T025319Z
DTSTART:20150831T093000Z
DTEND:20150831T113000Z
SUMMARY:Course: Tuning Into Kids
GEO:-37.811462;145.052545
LOCATION:St Hilary’s Education Centre\, 12 John St\, Kew\, VIC\, 3101\, Aus
 tralia
END:VEVENT
END:VCALENDAR
