BEGIN:VCALENDAR
VERSION:2.0
PRODID:-//Squarespace Inc/Squarespace 6//v6//EN
BEGIN:VEVENT
UID:55c15900e4b0e11e9db0bcdb@squarespace.com
DTSTAMP:20150810T072158Z
DTSTART:20150823T033000Z
DTEND:20150823T053000Z
SUMMARY:Vocal Workshop
END:VEVENT
END:VCALENDAR
