BEGIN:VCALENDAR
VERSION:2.0
PRODID:-//Squarespace Inc/Squarespace 6//v6//EN
BEGIN:VEVENT
UID:556c0040e4b061b67a04bb6a@squarespace.com
DTSTAMP:20150625T000708Z
DTSTART:20150729T090000Z
DTEND:20150729T110000Z
SUMMARY:Course: Apologetics (Ridley Certificate)
GEO:-37.811462;145.052545
LOCATION:St Hilary's Education Centre\, 12 John Street\, Kew\, Australia
END:VEVENT
END:VCALENDAR
