BEGIN:VCALENDAR
VERSION:2.0
PRODID:-//Squarespace Inc/Squarespace 6//v6//EN
BEGIN:VEVENT
UID:557fb838e4b085d57c6244a2@squarespace.com
DTSTAMP:20150625T003010Z
DTSTART:20150726T050000Z
DTEND:20150726T070000Z
SUMMARY:Course: Small Group Leadership Training
GEO:-37.811462;145.052545
LOCATION:St Hilary's Education Centre\, 12 John Street\, Kew\, Australia
END:VEVENT
END:VCALENDAR
